BEGIN:VCALENDAR
VERSION:2.0
PRODID:-//eventon.com NONSGML v1.0//EN
CALSCALE:GREGORIAN
METHOD:PUBLISH
BEGIN:VEVENT
UID:69e891f64f7dd
DTSTAMP:20260422T091638Z
DTSTART:20231022
DTEND:20231023
LOCATION:
SUMMARY:Step Up Challenge
DESCRIPTION:Climb the stairwells of six of downtown Vancouver’s tallest t
 owers! Bentall Centre is proud to participate in Habitat for Humanity Great
 er Vancouver&#8217;s Step Up Challenge. Sign up as an individual or gather 
 your team and embark on a challenge on October 22\,  2023. You and your fea
 rless group of five[..]\nhttps://www.bentallcentre.com/events/step-up-chall
 enge/
URL:https://www.bentallcentre.com/events/step-up-challenge/
END:VEVENT
END:VCALENDAR